BEGIN:VCALENDAR
VERSION:2.0
PRODID:-//NADI Kampung Batu Putih - ECPv6.15.20//NONSGML v1.0//EN
CALSCALE:GREGORIAN
METHOD:PUBLISH
X-WR-CALNAME:NADI Kampung Batu Putih
X-ORIGINAL-URL:https://kgbatuputih.nadi.my
X-WR-CALDESC:Events for NADI Kampung Batu Putih
REFRESH-INTERVAL;VALUE=DURATION:PT1H
X-Robots-Tag:noindex
X-PUBLISHED-TTL:PT1H
BEGIN:VTIMEZONE
TZID:UTC
BEGIN:STANDARD
TZOFFSETFROM:+0000
TZOFFSETTO:+0000
TZNAME:UTC
DTSTART:20220101T000000
END:STANDARD
END:VTIMEZONE
BEGIN:VEVENT
DTSTART;TZID=UTC:20231206T080000
DTEND;TZID=UTC:20231207T170000
DTSTAMP:20260419T222212
CREATED:20231206T181243Z
LAST-MODIFIED:20231206T181243Z
UID:3333-1701849600-1701968400@kgbatuputih.nadi.my
SUMMARY:ASAS ICT
DESCRIPTION:
URL:https://kgbatuputih.nadi.my/event/asas-ict-2/
LOCATION:pedi Kg Batu putih\, pedi Kg Batu putih
CATEGORIES:DEFAULT
END:VEVENT
BEGIN:VEVENT
DTSTART;TZID=UTC:20231204T080000
DTEND;TZID=UTC:20231207T170000
DTSTAMP:20260419T222212
CREATED:20231206T181209Z
LAST-MODIFIED:20231206T181209Z
UID:3332-1701676800-1701968400@kgbatuputih.nadi.my
SUMMARY:E-LEARNING
DESCRIPTION:
URL:https://kgbatuputih.nadi.my/event/e-learning-3/
CATEGORIES:DEFAULT
END:VEVENT
BEGIN:VEVENT
DTSTART;TZID=UTC:20231125T080000
DTEND;TZID=UTC:20231125T170000
DTSTAMP:20260419T222212
CREATED:20231101T213220Z
LAST-MODIFIED:20231101T213220Z
UID:3331-1700899200-1700931600@kgbatuputih.nadi.my
SUMMARY:KDB ADVOKASI
DESCRIPTION:
URL:https://kgbatuputih.nadi.my/event/kdb-advokasi-8/
LOCATION:pedi Kg Batu putih\, pedi Kg Batu putih
CATEGORIES:DEFAULT
END:VEVENT
BEGIN:VEVENT
DTSTART;TZID=UTC:20231119T080000
DTEND;TZID=UTC:20231119T170000
DTSTAMP:20260419T222212
CREATED:20231101T213158Z
LAST-MODIFIED:20231101T213158Z
UID:3330-1700380800-1700413200@kgbatuputih.nadi.my
SUMMARY:E-LEARNING
DESCRIPTION:
URL:https://kgbatuputih.nadi.my/event/e-learning-2/
LOCATION:pedi Kg Batu putih\, pedi Kg Batu putih
CATEGORIES:DEFAULT
END:VEVENT
BEGIN:VEVENT
DTSTART;TZID=UTC:20231116T080000
DTEND;TZID=UTC:20231116T170000
DTSTAMP:20260419T222212
CREATED:20231101T213135Z
LAST-MODIFIED:20231101T213135Z
UID:3329-1700121600-1700154000@kgbatuputih.nadi.my
SUMMARY:STEM-IOT
DESCRIPTION:
URL:https://kgbatuputih.nadi.my/event/stem-iot/
LOCATION:pedi Kg Batu putih\, pedi Kg Batu putih
CATEGORIES:DEFAULT
END:VEVENT
BEGIN:VEVENT
DTSTART;TZID=UTC:20231112T080000
DTEND;TZID=UTC:20231112T170000
DTSTAMP:20260419T222212
CREATED:20231101T213109Z
LAST-MODIFIED:20231101T213109Z
UID:3328-1699776000-1699808400@kgbatuputih.nadi.my
SUMMARY:ASAS ICT MICROSOFT WORD
DESCRIPTION:
URL:https://kgbatuputih.nadi.my/event/asas-ict-microsoft-word-2/
LOCATION:pedi Kg Batu putih\, pedi Kg Batu putih
CATEGORIES:DEFAULT
END:VEVENT
BEGIN:VEVENT
DTSTART;TZID=UTC:20231111T080000
DTEND;TZID=UTC:20231111T170000
DTSTAMP:20260419T222212
CREATED:20231101T213042Z
LAST-MODIFIED:20231101T213042Z
UID:3327-1699689600-1699722000@kgbatuputih.nadi.my
SUMMARY:ASAS TEKNOLOGI MAKLUMAT
DESCRIPTION:
URL:https://kgbatuputih.nadi.my/event/asas-teknologi-maklumat-22/
LOCATION:pedi Kg Batu putih\, pedi Kg Batu putih
CATEGORIES:DEFAULT
END:VEVENT
BEGIN:VEVENT
DTSTART;TZID=UTC:20231109T080000
DTEND;TZID=UTC:20231109T170000
DTSTAMP:20260419T222212
CREATED:20231101T213020Z
LAST-MODIFIED:20231101T213020Z
UID:3326-1699516800-1699549200@kgbatuputih.nadi.my
SUMMARY:KEUSAHAWANAN
DESCRIPTION:
URL:https://kgbatuputih.nadi.my/event/keusahawanan-21/
LOCATION:pedi Kg Batu putih\, pedi Kg Batu putih
CATEGORIES:DEFAULT
END:VEVENT
BEGIN:VEVENT
DTSTART;TZID=UTC:20231107T080000
DTEND;TZID=UTC:20231107T170000
DTSTAMP:20260419T222212
CREATED:20231101T212956Z
LAST-MODIFIED:20231101T212956Z
UID:3325-1699344000-1699376400@kgbatuputih.nadi.my
SUMMARY:SUNTINGAN IMEJ CANVA
DESCRIPTION:
URL:https://kgbatuputih.nadi.my/event/suntingan-imej-canva-2/
LOCATION:pedi Kg Batu putih\, pedi Kg Batu putih
CATEGORIES:DEFAULT
END:VEVENT
BEGIN:VEVENT
DTSTART;TZID=UTC:20231025T080000
DTEND;TZID=UTC:20231025T170000
DTSTAMP:20260419T222212
CREATED:20231010T170640Z
LAST-MODIFIED:20231010T170640Z
UID:3324-1698220800-1698253200@kgbatuputih.nadi.my
SUMMARY:KEUSAHAWANAN
DESCRIPTION:
URL:https://kgbatuputih.nadi.my/event/keusahawanan-20/
LOCATION:pedi Kg Batu putih\, pedi Kg Batu putih
CATEGORIES:DEFAULT
END:VEVENT
BEGIN:VEVENT
DTSTART;TZID=UTC:20231021T080000
DTEND;TZID=UTC:20231021T170000
DTSTAMP:20260419T222212
CREATED:20231010T170617Z
LAST-MODIFIED:20231010T170617Z
UID:3323-1697875200-1697907600@kgbatuputih.nadi.my
SUMMARY:KDB ADVOKASI
DESCRIPTION:
URL:https://kgbatuputih.nadi.my/event/kdb-advokasi-7/
LOCATION:pedi Kg Batu putih\, pedi Kg Batu putih
CATEGORIES:DEFAULT
END:VEVENT
BEGIN:VEVENT
DTSTART;TZID=UTC:20231015T080000
DTEND;TZID=UTC:20231015T170000
DTSTAMP:20260419T222212
CREATED:20231010T170549Z
LAST-MODIFIED:20231010T170549Z
UID:3322-1697356800-1697389200@kgbatuputih.nadi.my
SUMMARY:SUNTINGAN IMEJ CANVA
DESCRIPTION:
URL:https://kgbatuputih.nadi.my/event/suntingan-imej-canva/
LOCATION:pedi Kg Batu putih\, pedi Kg Batu putih
CATEGORIES:DEFAULT
END:VEVENT
BEGIN:VEVENT
DTSTART;TZID=UTC:20231014T080000
DTEND;TZID=UTC:20231014T170000
DTSTAMP:20260419T222212
CREATED:20231010T170507Z
LAST-MODIFIED:20231010T170507Z
UID:3321-1697270400-1697302800@kgbatuputih.nadi.my
SUMMARY:ASAS ICT MICROSOFT POWER POINT
DESCRIPTION:
URL:https://kgbatuputih.nadi.my/event/asas-ict-microsoft-power-point/
LOCATION:pedi Kg Batu putih\, pedi Kg Batu putih
CATEGORIES:DEFAULT
END:VEVENT
BEGIN:VEVENT
DTSTART;TZID=UTC:20231010T080000
DTEND;TZID=UTC:20231010T170000
DTSTAMP:20260419T222212
CREATED:20231010T170443Z
LAST-MODIFIED:20231010T170443Z
UID:3320-1696924800-1696957200@kgbatuputih.nadi.my
SUMMARY:ASAS TEKNOLOGI MAKLUMAT
DESCRIPTION:
URL:https://kgbatuputih.nadi.my/event/asas-teknologi-maklumat-21/
LOCATION:pedi Kg Batu putih\, pedi Kg Batu putih
CATEGORIES:DEFAULT
END:VEVENT
BEGIN:VEVENT
DTSTART;TZID=UTC:20231007T080000
DTEND;TZID=UTC:20231007T120000
DTSTAMP:20260419T222212
CREATED:20231010T170404Z
LAST-MODIFIED:20231010T170404Z
UID:3319-1696665600-1696680000@kgbatuputih.nadi.my
SUMMARY:ASAS ICT MICROSOFT WORD
DESCRIPTION:
URL:https://kgbatuputih.nadi.my/event/asas-ict-microsoft-word/
CATEGORIES:DEFAULT
END:VEVENT
BEGIN:VEVENT
DTSTART;TZID=UTC:20231003T080000
DTEND;TZID=UTC:20231003T120000
DTSTAMP:20260419T222212
CREATED:20231010T170340Z
LAST-MODIFIED:20231010T170340Z
UID:3318-1696320000-1696334400@kgbatuputih.nadi.my
SUMMARY:E-Learning
DESCRIPTION:
URL:https://kgbatuputih.nadi.my/event/e-learning/
CATEGORIES:DEFAULT
END:VEVENT
BEGIN:VEVENT
DTSTART;TZID=UTC:20230923T080000
DTEND;TZID=UTC:20230923T170000
DTSTAMP:20260419T222212
CREATED:20230904T174311Z
LAST-MODIFIED:20230904T174311Z
UID:3317-1695456000-1695488400@kgbatuputih.nadi.my
SUMMARY:KDB ADVOKASI
DESCRIPTION:
URL:https://kgbatuputih.nadi.my/event/kdb-advokasi-6/
LOCATION:pedi Kg Batu putih\, pedi Kg Batu putih
CATEGORIES:DEFAULT
END:VEVENT
BEGIN:VEVENT
DTSTART;TZID=UTC:20230913T080000
DTEND;TZID=UTC:20230913T170000
DTSTAMP:20260419T222212
CREATED:20230904T174112Z
LAST-MODIFIED:20230904T174112Z
UID:3316-1694592000-1694624400@kgbatuputih.nadi.my
SUMMARY:KEUSAHAWANAN
DESCRIPTION:
URL:https://kgbatuputih.nadi.my/event/keusahawanan-19/
LOCATION:pedi Kg Batu putih\, pedi Kg Batu putih
CATEGORIES:DEFAULT
END:VEVENT
BEGIN:VEVENT
DTSTART;TZID=UTC:20230909T080000
DTEND;TZID=UTC:20230909T170000
DTSTAMP:20260419T222212
CREATED:20230904T174019Z
LAST-MODIFIED:20230904T174019Z
UID:3315-1694246400-1694278800@kgbatuputih.nadi.my
SUMMARY:MULTIMEDIA - CANVA
DESCRIPTION:
URL:https://kgbatuputih.nadi.my/event/multimedia-canva-4/
LOCATION:pedi Kg Batu putih\, pedi Kg Batu putih
CATEGORIES:DEFAULT
END:VEVENT
BEGIN:VEVENT
DTSTART;TZID=UTC:20230906T080000
DTEND;TZID=UTC:20230906T170000
DTSTAMP:20260419T222212
CREATED:20230904T173726Z
LAST-MODIFIED:20230904T173726Z
UID:3314-1693987200-1694019600@kgbatuputih.nadi.my
SUMMARY:ASAS ICT
DESCRIPTION:
URL:https://kgbatuputih.nadi.my/event/asas-ict/
LOCATION:pedi Kg Batu putih\, pedi Kg Batu putih
CATEGORIES:DEFAULT
END:VEVENT
BEGIN:VEVENT
DTSTART;TZID=UTC:20230902T080000
DTEND;TZID=UTC:20230905T170000
DTSTAMP:20260419T222212
CREATED:20230904T173652Z
LAST-MODIFIED:20230904T173652Z
UID:3313-1693641600-1693933200@kgbatuputih.nadi.my
SUMMARY:ASAS TEKNOLOGI MAKLUMAT
DESCRIPTION:
URL:https://kgbatuputih.nadi.my/event/asas-teknologi-maklumat-20/
LOCATION:pedi Kg Batu putih\, pedi Kg Batu putih
CATEGORIES:DEFAULT
END:VEVENT
BEGIN:VEVENT
DTSTART;TZID=UTC:20230820T080000
DTEND;TZID=UTC:20230820T170000
DTSTAMP:20260419T222212
CREATED:20230811T180000Z
LAST-MODIFIED:20230811T180000Z
UID:3312-1692518400-1692550800@kgbatuputih.nadi.my
SUMMARY:PENGURUSAN KEWANGAN PERIBADI
DESCRIPTION:
URL:https://kgbatuputih.nadi.my/event/pengurusan-kewangan-peribadi-2/
LOCATION:pedi Kg Batu putih\, pedi Kg Batu putih
CATEGORIES:DEFAULT
END:VEVENT
BEGIN:VEVENT
DTSTART;TZID=UTC:20230815T080000
DTEND;TZID=UTC:20230815T170000
DTSTAMP:20260419T222212
CREATED:20230811T175935Z
LAST-MODIFIED:20230811T175935Z
UID:3311-1692086400-1692118800@kgbatuputih.nadi.my
SUMMARY:KEUSAHAWANAN
DESCRIPTION:
URL:https://kgbatuputih.nadi.my/event/keusahawanan-18/
LOCATION:pedi Kg Batu putih\, pedi Kg Batu putih
CATEGORIES:DEFAULT
END:VEVENT
BEGIN:VEVENT
DTSTART;TZID=UTC:20230812T080000
DTEND;TZID=UTC:20230812T170000
DTSTAMP:20260419T222212
CREATED:20230811T175908Z
LAST-MODIFIED:20230811T175908Z
UID:3310-1691827200-1691859600@kgbatuputih.nadi.my
SUMMARY:AGRO TECHNOLOGY - SMART FARMING
DESCRIPTION:
URL:https://kgbatuputih.nadi.my/event/agro-technology-smart-farming-2/
LOCATION:PEDi kg batu putih (online)\, PEDi kg batu putih (online)
CATEGORIES:DEFAULT
END:VEVENT
BEGIN:VEVENT
DTSTART;TZID=UTC:20230810T080000
DTEND;TZID=UTC:20230810T170000
DTSTAMP:20260419T222212
CREATED:20230811T175835Z
LAST-MODIFIED:20230811T175835Z
UID:3308-1691654400-1691686800@kgbatuputih.nadi.my
SUMMARY:MULTIMEDIA - CANVA
DESCRIPTION:
URL:https://kgbatuputih.nadi.my/event/multimedia-canva-3/
LOCATION:pedi Kg Batu putih\, pedi Kg Batu putih
CATEGORIES:DEFAULT
END:VEVENT
BEGIN:VEVENT
DTSTART;TZID=UTC:20230807T080000
DTEND;TZID=UTC:20230807T170000
DTSTAMP:20260419T222212
CREATED:20230811T175807Z
LAST-MODIFIED:20230811T175807Z
UID:3307-1691395200-1691427600@kgbatuputih.nadi.my
SUMMARY:ASAS TEKNOLOGI MAKLUMAT
DESCRIPTION:
URL:https://kgbatuputih.nadi.my/event/asas-teknologi-maklumat-19/
LOCATION:pedi Kg Batu putih\, pedi Kg Batu putih
CATEGORIES:DEFAULT
END:VEVENT
BEGIN:VEVENT
DTSTART;TZID=UTC:20230806T080000
DTEND;TZID=UTC:20230806T170000
DTSTAMP:20260419T222212
CREATED:20230811T175741Z
LAST-MODIFIED:20230811T175741Z
UID:3306-1691308800-1691341200@kgbatuputih.nadi.my
SUMMARY:KELAS ICT
DESCRIPTION:
URL:https://kgbatuputih.nadi.my/event/kelas-ict-13/
LOCATION:pedi Kg Batu putih\, pedi Kg Batu putih
CATEGORIES:DEFAULT
END:VEVENT
BEGIN:VEVENT
DTSTART;TZID=UTC:20230720T080000
DTEND;TZID=UTC:20230720T170000
DTSTAMP:20260419T222212
CREATED:20230704T171552Z
LAST-MODIFIED:20230704T171552Z
UID:3305-1689840000-1689872400@kgbatuputih.nadi.my
SUMMARY:PENGURUSAN KEWANGAN PERIBADI
DESCRIPTION:
URL:https://kgbatuputih.nadi.my/event/pengurusan-kewangan-peribadi/
LOCATION:pedi Kg Batu putih\, pedi Kg Batu putih
CATEGORIES:DEFAULT
END:VEVENT
BEGIN:VEVENT
DTSTART;TZID=UTC:20230718T080000
DTEND;TZID=UTC:20230718T170000
DTSTAMP:20260419T222212
CREATED:20230704T171518Z
LAST-MODIFIED:20230704T171518Z
UID:3304-1689667200-1689699600@kgbatuputih.nadi.my
SUMMARY:INTERVIEW SKILLS
DESCRIPTION:
URL:https://kgbatuputih.nadi.my/event/interview-skills/
LOCATION:pedi Kg Batu putih\, pedi Kg Batu putih
CATEGORIES:DEFAULT
END:VEVENT
BEGIN:VEVENT
DTSTART;TZID=UTC:20230715T080000
DTEND;TZID=UTC:20230715T170000
DTSTAMP:20260419T222212
CREATED:20230704T171444Z
LAST-MODIFIED:20230704T171444Z
UID:3303-1689408000-1689440400@kgbatuputih.nadi.my
SUMMARY:KEUSAHAWANAN
DESCRIPTION:
URL:https://kgbatuputih.nadi.my/event/keusahawanan-17/
LOCATION:pedi Kg Batu putih\, pedi Kg Batu putih
CATEGORIES:DEFAULT
END:VEVENT
END:VCALENDAR